BEGIN:VCALENDAR
VERSION:2.0
PRODID:-//wp-events-plugin.com//6.6.3//EN
TZID:America/New_York
X-WR-TIMEZONE:America/New_York
BEGIN:VEVENT
UID:14-660@atlantachinese.net
DTSTART;TZID=America/New_York:20160514T100000
DTEND;TZID=America/New_York:20160514T120000
DTSTAMP:20160508T115258Z
URL:https://www.atlantachinese.net/deals/groupbuys/%e3%80%8e%e4%ba%9a%e5%9
 f%8e%e5%8d%8e%e4%ba%ba%e7%94%9f%e6%b4%bb%e7%bd%91%e3%80%8ftimeless%e6%8a%a
 4%e8%82%a4%e5%93%81%e5%8f%8a%e8%a5%bf%e6%b4%8b%e5%8f%82%e5%9b%a2%e8%b4%ad/
SUMMARY:『亚城华人生活网』母亲节Timeless护肤品团购
DESCRIPTION:品种型号：许氏人工花旗參不同型号\n包装重量
 ：4 盎司\n团购价钱：凑齐50盒以 10% 折扣价来团；上100盒
 以 20% 折扣价来团；2盒起团！具体价格见以下各型号介
 绍。
ATTACH;FMTTYPE=image/jpeg:https://www.atlantachinese.net/deals/files/2016/
 05/timeless_logo_blue_01_1443657183__77497.png
CATEGORIES:团购活动
LOCATION:Perimeter Church Parking lot\, 9500 Medlock Bridge Rd.\, Duluth\, 
 GA\, 30097\, United States
GEO:34.012851;-84.19579950000002
X-APPLE-STRUCTURED-LOCATION;VALUE=URI;X-ADDRESS=9500 Medlock Bridge Rd.\, D
 uluth\, GA\, 30097\, United States;X-APPLE-RADIUS=100;X-TITLE=Perimeter Ch
 urch Parking lot:geo:34.012851,-84.19579950000002
END:VEVENT
BEGIN:VTIMEZONE
TZID:America/New_York
X-LIC-LOCATION:America/New_York
BEGIN:DAYLIGHT
DTSTART:20160313T030000
TZOFFSETFROM:-0500
TZOFFSETTO:-0400
TZNAME:EDT
END:DAYLIGHT
END:VTIMEZONE
END:VCALENDAR