BEGIN:VCALENDAR
VERSION:2.0
PRODID:-//wp-events-plugin.com//6.6.3//EN
TZID:America/New_York
X-WR-TIMEZONE:America/New_York
BEGIN:VEVENT
UID:14-695@atlantachinese.net
DTSTART;TZID=America/New_York:20160611T120000
DTEND;TZID=America/New_York:20160611T200000
DTSTAMP:20160530T154222Z
URL:https://www.atlantachinese.net/deals/groupbuys/%e4%ba%9a%e7%89%b9%e5%8
 5%b0%e5%a4%a7led%e5%a4%aa%e9%98%b3%e8%83%bd%e5%ba%ad%e9%99%a2%e7%81%af%e5%
 9b%a2%e8%b4%ad/
SUMMARY:亚特兰大LED太阳能庭院灯团购
DESCRIPTION:1、产品名称：太阳能LED庭院灯\n2、产品用途：
 用于室外空间照明，如前后院、阳台、走廊、车库前、
 房屋两侧或角落等
CATEGORIES:团购活动
LOCATION:蜀香园\, 2180 Pleasant Hill Rd\, Duluth\, GA\, 30096\, United S
 tates
GEO:33.9612744;-84.1343685
X-APPLE-STRUCTURED-LOCATION;VALUE=URI;X-ADDRESS=2180 Pleasant Hill Rd\, Dul
 uth\, GA\, 30096\, United States;X-APPLE-RADIUS=100;X-TITLE=蜀香园:geo:
 33.9612744,-84.1343685
END:VEVENT
BEGIN:VTIMEZONE
TZID:America/New_York
X-LIC-LOCATION:America/New_York
BEGIN:DAYLIGHT
DTSTART:20160313T030000
TZOFFSETFROM:-0500
TZOFFSETTO:-0400
TZNAME:EDT
END:DAYLIGHT
END:VTIMEZONE
END:VCALENDAR