BEGIN:VCALENDAR
VERSION:2.0
PRODID:-//wp-events-plugin.com//6.6.3//EN
TZID:America/New_York
X-WR-TIMEZONE:America/New_York
BEGIN:VEVENT
UID:14-630@atlantachinese.net
DTSTART;TZID=America/New_York:20160506T150000
DTEND;TZID=America/New_York:20160508T180000
DTSTAMP:20160418T170919Z
URL:https://www.atlantachinese.net/deals/groupbuys/160415/
SUMMARY:暑假回国送好礼  许氏虫草皇团购啦
DESCRIPTION:货物品种：许氏虫草皇双龙礼盒\n团购价钱： 市
 场价 $99.96 一盒，优惠价 $90 一盒。如果订购量达到20盒
 ，价格可低至$85。
ATTACH;FMTTYPE=image/jpeg:https://www.atlantachinese.net/deals/files/2016/
 01/1822B5_150.jpg
CATEGORIES:团购活动
LOCATION:杨茗参茶庄 Retail & Wholesale\, 2180  Pleasant Hill  Rd B12\,
  Duluth \, GA\, 30096\, United States
GEO:33.9612744;-84.1343685
X-APPLE-STRUCTURED-LOCATION;VALUE=URI;X-ADDRESS=2180  Pleasant Hill  Rd B12
 \, Duluth \, GA\, 30096\, United States;X-APPLE-RADIUS=100;X-TITLE=杨茗
 参茶庄 Retail & Wholesale:geo:33.9612744,-84.1343685
END:VEVENT
BEGIN:VTIMEZONE
TZID:America/New_York
X-LIC-LOCATION:America/New_York
BEGIN:DAYLIGHT
DTSTART:20160313T030000
TZOFFSETFROM:-0500
TZOFFSETTO:-0400
TZNAME:EDT
END:DAYLIGHT
END:VTIMEZONE
END:VCALENDAR