BEGIN:VCALENDAR
VERSION:2.0
PRODID:-//wp-events-plugin.com//6.6.3//EN
TZID:America/New_York
X-WR-TIMEZONE:America/New_York
BEGIN:VEVENT
UID:14-641@atlantachinese.net
DTSTART;TZID=America/New_York:20160514T130000
DTEND;TZID=America/New_York:20160514T170000
DTSTAMP:20160506T114924Z
URL:https://www.atlantachinese.net/deals/groupbuys/160421/
SUMMARY:母亲节——时尚隐形袜团购
DESCRIPTION:时尚的潮妈们，肯定知道特别多穿搭的小心机吧
 。比如卷起裤脚露出脚踝啦，挽起袖子露出手臂等，这
 些都能把身体最瘦的部分展示出来，从而让你整个人看
 上去纤细苗条。特别是春夏有些衣服适合露出美袜来UP时
 尚度，但是也有很多美眉在穿浅口鞋，运动鞋，帆布鞋
 ，牛津鞋，懒人鞋时，不想让袜子露出来破坏鞋子的美
 感，这时候就非常需要一款隐形袜了。它不但能隐形，
 而且穿上之后再也不怕磨脚，出汗等问题了。母亲节的
 时候给自己一点小确幸吧。\n\n
ATTACH;FMTTYPE=image/jpeg:https://www.atlantachinese.net/deals/files/2016/
 04/image-20-04-16-09-00-6.jpeg
CATEGORIES:团购活动
LOCATION:杨茗参茶庄 Retail & Wholesale\, 2180  Pleasant Hill  Rd B12\,
  Duluth \, GA\, 30096\, United States
GEO:33.9612744;-84.1343685
X-APPLE-STRUCTURED-LOCATION;VALUE=URI;X-ADDRESS=2180  Pleasant Hill  Rd B12
 \, Duluth \, GA\, 30096\, United States;X-APPLE-RADIUS=100;X-TITLE=杨茗
 参茶庄 Retail & Wholesale:geo:33.9612744,-84.1343685
END:VEVENT
BEGIN:VTIMEZONE
TZID:America/New_York
X-LIC-LOCATION:America/New_York
BEGIN:DAYLIGHT
DTSTART:20160313T030000
TZOFFSETFROM:-0500
TZOFFSETTO:-0400
TZNAME:EDT
END:DAYLIGHT
END:VTIMEZONE
END:VCALENDAR