BEGIN:VCALENDAR
VERSION:2.0
PRODID:-//wp-events-plugin.com//6.6.3//EN
TZID:America/New_York
X-WR-TIMEZONE:America/New_York
BEGIN:VEVENT
UID:14-640@atlantachinese.net
DTSTART;TZID=America/New_York:20160507T130000
DTEND;TZID=America/New_York:20160507T170000
DTSTAMP:20160423T020626Z
URL:https://www.atlantachinese.net/deals/groupbuys/160422/
SUMMARY:母亲节——纯地中海野生海参（刺参）团购
DESCRIPTION:海参富含蛋白质和各种微量元素，具有延缓衰老
 ，抗疲劳，增加抵抗力，调节血糖，促进生长等等功效
 ，自用送礼两相宜。\n\n上次我们组织的团购都说海参太
 少，很多人想买没买到，所以我们这次再次组织了团购
 ，在母亲节期间献上一份孝心。\n\n
ATTACH;FMTTYPE=image/jpeg:https://www.atlantachinese.net/deals/files/2016/
 04/1305631066359.jpg
CATEGORIES:团购活动
LOCATION:杨茗参茶庄 Retail & Wholesale\, 2180  Pleasant Hill  Rd B12\,
  Duluth \, GA\, 30096\, United States
GEO:33.9612744;-84.1343685
X-APPLE-STRUCTURED-LOCATION;VALUE=URI;X-ADDRESS=2180  Pleasant Hill  Rd B12
 \, Duluth \, GA\, 30096\, United States;X-APPLE-RADIUS=100;X-TITLE=杨茗
 参茶庄 Retail & Wholesale:geo:33.9612744,-84.1343685
END:VEVENT
BEGIN:VTIMEZONE
TZID:America/New_York
X-LIC-LOCATION:America/New_York
BEGIN:DAYLIGHT
DTSTART:20160313T030000
TZOFFSETFROM:-0500
TZOFFSETTO:-0400
TZNAME:EDT
END:DAYLIGHT
END:VTIMEZONE
END:VCALENDAR