BEGIN:VCALENDAR
VERSION:2.0
PRODID:-//wp-events-plugin.com//6.6.3//EN
TZID:America/New_York
X-WR-TIMEZONE:America/New_York
BEGIN:VEVENT
UID:14-586@atlantachinese.net
DTSTART;TZID=America/New_York:20160416T150000
DTEND;TZID=America/New_York:20160416T170000
DTSTAMP:20160330T024215Z
URL:https://www.atlantachinese.net/deals/groupbuys/crab/
SUMMARY:大闸蟹
DESCRIPTION:只是听到这三个字心中就有了牵挂？有这么一个
 笑话，说欧洲遭到大闸蟹入侵，易北河螃蟹泛滥，德国
 政府要求中国赶快派一个吃货小分队过去。只可惜螃蟹
 还没有入侵美国，我们想吃却吃不着。现在我们生活网
 组织了上海名轩蟹庄的螃蟹来给大家解馋了。废话少说
 ，直接上图。
ATTACH;FMTTYPE=image/jpeg:https://www.atlantachinese.net/deals/files/2016/
 03/1542505963.jpg
CATEGORIES:团购活动
LOCATION:杨茗参茶庄 Retail & Wholesale\, 2180  Pleasant Hill  Rd B12\,
  Duluth \, GA\, 30096\, United States
GEO:33.9612744;-84.1343685
X-APPLE-STRUCTURED-LOCATION;VALUE=URI;X-ADDRESS=2180  Pleasant Hill  Rd B12
 \, Duluth \, GA\, 30096\, United States;X-APPLE-RADIUS=100;X-TITLE=杨茗
 参茶庄 Retail & Wholesale:geo:33.9612744,-84.1343685
END:VEVENT
BEGIN:VTIMEZONE
TZID:America/New_York
X-LIC-LOCATION:America/New_York
BEGIN:DAYLIGHT
DTSTART:20160313T030000
TZOFFSETFROM:-0500
TZOFFSETTO:-0400
TZNAME:EDT
END:DAYLIGHT
END:VTIMEZONE
END:VCALENDAR