BEGIN:VCALENDAR
VERSION:2.0
PRODID:-//wp-events-plugin.com//6.6.3//EN
TZID:America/New_York
X-WR-TIMEZONE:America/New_York
BEGIN:VEVENT
UID:14-680@atlantachinese.net
DTSTART;TZID=America/New_York:20160626T100000
DTEND;TZID=America/New_York:20160626T180000
DTSTAMP:20160519T155733Z
URL:https://www.atlantachinese.net/deals/groupbuys/furniture201606/
SUMMARY:餐桌，沙发，卧室家具团购优惠啦
DESCRIPTION:我们生活网团购的东西是越来越多，现在连家具
 也可以团购啦。\n\n
ATTACH;FMTTYPE=image/jpeg:https://www.atlantachinese.net/deals/files/2016/
 05/FunitureMart-GrandOpening-160x160.jpg
CATEGORIES:团购活动
LOCATION:Furniture Mart\, 3935 Venture Dr\, Duluth\, United States
GEO:33.9513948;-84.14407899999997
X-APPLE-STRUCTURED-LOCATION;VALUE=URI;X-ADDRESS=3935 Venture Dr\, Duluth\, 
 United States;X-APPLE-RADIUS=100;X-TITLE=Furniture Mart:geo:33.9513948,-84
 .14407899999997
END:VEVENT
BEGIN:VTIMEZONE
TZID:America/New_York
X-LIC-LOCATION:America/New_York
BEGIN:DAYLIGHT
DTSTART:20160313T030000
TZOFFSETFROM:-0500
TZOFFSETTO:-0400
TZNAME:EDT
END:DAYLIGHT
END:VTIMEZONE
END:VCALENDAR