BEGIN:VCALENDAR
VERSION:2.0
PRODID:-//wp-events-plugin.com//6.6.3//EN
TZID:America/New_York
X-WR-TIMEZONE:America/New_York
BEGIN:VEVENT
UID:14-576@atlantachinese.net
DTSTART;TZID=America/New_York;VALUE=DATE:20160415
DTEND;TZID=America/New_York;VALUE=DATE:20160416
DTSTAMP:20160412T032637Z
URL:https://www.atlantachinese.net/deals/groupbuys/honda-201604/
SUMMARY:Honda 各车型团购
DESCRIPTION:为满足亚城各位朋友团购汽车的要求，我们再次
 与Honda 的销售商一起组织了此次团购活动，目前先收集
 各位亲的需求，汇总后再和销售商谈团购的折扣。
ATTACH;FMTTYPE=image/jpeg:https://www.atlantachinese.net/deals/files/2016/
 03/download-8.jpg
CATEGORIES:团购活动
END:VEVENT
BEGIN:VTIMEZONE
TZID:America/New_York
X-LIC-LOCATION:America/New_York
BEGIN:DAYLIGHT
DTSTART:20160313T030000
TZOFFSETFROM:-0500
TZOFFSETTO:-0400
TZNAME:EDT
END:DAYLIGHT
END:VTIMEZONE
END:VCALENDAR