BEGIN:VCALENDAR
VERSION:2.0
PRODID:-//wp-events-plugin.com//6.6.3//EN
TZID:America/New_York
X-WR-TIMEZONE:America/New_York
BEGIN:VEVENT
UID:14-657@atlantachinese.net
DTSTART;TZID=America/New_York:20160507T130000
DTEND;TZID=America/New_York:20160507T170000
DTSTAMP:20160506T191109Z
URL:https://www.atlantachinese.net/deals/groupbuys/htv0507/
SUMMARY:亚城暑假里看中文电视－H.TV3高清网络电视机顶盒
 团购
DESCRIPTION:H.TV 高清网络电视机顶盒第三代 HTV-3\n生活网团
 购价：超过20台只需 $175！再多还可优惠到$170，价格在人
 数达到一定数量后会自动调整。
ATTACH;FMTTYPE=image/jpeg:https://www.atlantachinese.net/deals/files/2016/
 01/HTV3.png
CATEGORIES:团购活动
LOCATION:杨茗参茶庄 Retail & Wholesale\, 2180  Pleasant Hill  Rd B12\,
  Duluth \, GA\, 30096\, United States
GEO:33.9612744;-84.1343685
X-APPLE-STRUCTURED-LOCATION;VALUE=URI;X-ADDRESS=2180  Pleasant Hill  Rd B12
 \, Duluth \, GA\, 30096\, United States;X-APPLE-RADIUS=100;X-TITLE=杨茗
 参茶庄 Retail & Wholesale:geo:33.9612744,-84.1343685
END:VEVENT
BEGIN:VTIMEZONE
TZID:America/New_York
X-LIC-LOCATION:America/New_York
BEGIN:DAYLIGHT
DTSTART:20160313T030000
TZOFFSETFROM:-0500
TZOFFSETTO:-0400
TZNAME:EDT
END:DAYLIGHT
END:VTIMEZONE
END:VCALENDAR