BEGIN:VCALENDAR
VERSION:2.0
PRODID:-//wp-events-plugin.com//6.6.3//EN
TZID:America/New_York
X-WR-TIMEZONE:America/New_York
BEGIN:VEVENT
UID:14-631@atlantachinese.net
DTSTART;TZID=America/New_York:20160423T100000
DTEND;TZID=America/New_York:20160423T170000
DTSTAMP:20160419T152754Z
URL:https://www.atlantachinese.net/deals/groupbuys/htv3-20160423/
SUMMARY:亚城暑假里看中文电视－H.TV3高清网络电视机顶盒
 团购
DESCRIPTION:H.TV 高清网络电视机顶盒第三代 HTV-3\n生活网团
 购价：优惠价$200。凑齐10台 $190；超过20台只需 $180！再
 多还可优惠到$170，价格在人数达到一定数量后会自动调
 整。
ATTACH;FMTTYPE=image/jpeg:https://www.atlantachinese.net/deals/files/2016/
 01/HTV3.png
CATEGORIES:团购活动
LOCATION:长城礼品店（中国城）\, 5383 New Peachtree Rd\, Atlanta\,
  GA \, 30341\, United States
GEO:33.8903722;-84.3000098
X-APPLE-STRUCTURED-LOCATION;VALUE=URI;X-ADDRESS=5383 New Peachtree Rd\, Atl
 anta\, GA \, 30341\, United States;X-APPLE-RADIUS=100;X-TITLE=长城礼品
 店（中国城）:geo:33.8903722,-84.3000098
END:VEVENT
BEGIN:VTIMEZONE
TZID:America/New_York
X-LIC-LOCATION:America/New_York
BEGIN:DAYLIGHT
DTSTART:20160313T030000
TZOFFSETFROM:-0500
TZOFFSETTO:-0400
TZNAME:EDT
END:DAYLIGHT
END:VTIMEZONE
END:VCALENDAR