BEGIN:VCALENDAR
VERSION:2.0
PRODID:-//wp-events-plugin.com//6.6.3//EN
TZID:America/New_York
X-WR-TIMEZONE:America/New_York
BEGIN:VEVENT
UID:14-658@atlantachinese.net
DTSTART;TZID=America/New_York;VALUE=DATE:20160530
DTEND;TZID=America/New_York;VALUE=DATE:20160531
DTSTAMP:20160526T152504Z
URL:https://www.atlantachinese.net/deals/groupbuys/mosquito/
SUMMARY:灭蚊团购
DESCRIPTION:转眼天就热了，讨厌的蚊子又开始滋生了。而且
 今年的蚊子还可能携带着危险的寨卡(ZIKA)病毒，会对胎
 儿造成影响。\n\n我们紧急和亚特兰大多家专业的灭蚊公
 司进行了联系，比较下来，选择了Mosquito Squad作为我们的
 供应商。
ATTACH;FMTTYPE=image/jpeg:https://www.atlantachinese.net/deals/files/2016/
 05/download.png
CATEGORIES:团购活动
END:VEVENT
BEGIN:VTIMEZONE
TZID:America/New_York
X-LIC-LOCATION:America/New_York
BEGIN:DAYLIGHT
DTSTART:20160313T030000
TZOFFSETFROM:-0500
TZOFFSETTO:-0400
TZNAME:EDT
END:DAYLIGHT
END:VTIMEZONE
END:VCALENDAR