BEGIN:VCALENDAR
VERSION:2.0
PRODID:-//wp-events-plugin.com//6.6.3//EN
TZID:America/New_York
X-WR-TIMEZONE:America/New_York
BEGIN:VEVENT
UID:14-579@atlantachinese.net
DTSTART;TZID=America/New_York:20160415T083000
DTEND;TZID=America/New_York:20160415T170000
DTSTAMP:20160414T233252Z
URL:https://www.atlantachinese.net/deals/groupbuys/piano-seiler-20160415/
SUMMARY:德国钢琴 Seiler 团购 ｜ 贵族品质、平民价格
DESCRIPTION:本次团购是德国品牌 Seiler 钢琴，需要团购其他
 品牌钢琴的朋友，请关注我们生活网的其他团购活动，
 或者加小娅（AtlantaChinese）微信来讨论。
ATTACH;FMTTYPE=image/jpeg:https://www.atlantachinese.net/deals/files/2016/
 03/Seiler.jpg
CATEGORIES:团购活动
LOCATION:PianoWorks\, 2805 Buford Highway\, Duluth\, GA\, 30096\, United St
 ates
GEO:34.0071059;-84.13474989999997
X-APPLE-STRUCTURED-LOCATION;VALUE=URI;X-ADDRESS=2805 Buford Highway\, Dulut
 h\, GA\, 30096\, United States;X-APPLE-RADIUS=100;X-TITLE=PianoWorks:geo:3
 4.0071059,-84.13474989999997
END:VEVENT
BEGIN:VTIMEZONE
TZID:America/New_York
X-LIC-LOCATION:America/New_York
BEGIN:DAYLIGHT
DTSTART:20160313T030000
TZOFFSETFROM:-0500
TZOFFSETTO:-0400
TZNAME:EDT
END:DAYLIGHT
END:VTIMEZONE
END:VCALENDAR