BEGIN:VCALENDAR
VERSION:2.0
PRODID:-//wp-events-plugin.com//6.6.3//EN
TZID:America/New_York
X-WR-TIMEZONE:America/New_York
BEGIN:VEVENT
UID:14-683@atlantachinese.net
DTSTART;TZID=America/New_York:20160528T130000
DTEND;TZID=America/New_York:20160528T170000
DTSTAMP:20160516T005257Z
URL:https://www.atlantachinese.net/deals/groupbuys/seacucumber160528/
SUMMARY:纯地中海野生海参（刺参）团购--暑期带礼物回国
 啦
DESCRIPTION:海参富含蛋白质和各种微量元素，具有延缓衰老
 ，抗疲劳，增加抵抗力，调节血糖，促进生长等等功效
 ，自用送礼两相宜。就快暑假了，也带点营养品给家乡
 的长辈吧。\n\n地中海相较墨西哥湾跟为寒冷，海参生长
 的速度慢，所以营养成分也要优于南美海参。\n\n
ATTACH;FMTTYPE=image/jpeg:https://www.atlantachinese.net/deals/files/2016/
 04/1305631066359.jpg
CATEGORIES:团购活动
LOCATION:长城礼品店（大中华）\, 2300 Pleasant Hill Road #B-6\, Du
 luth\, GA \, 30096\, United States
GEO:33.9636522;-84.13440559999998
X-APPLE-STRUCTURED-LOCATION;VALUE=URI;X-ADDRESS=2300 Pleasant Hill Road #B-
 6\, Duluth\, GA \, 30096\, United States;X-APPLE-RADIUS=100;X-TITLE=长城
 礼品店（大中华）:geo:33.9636522,-84.13440559999998
END:VEVENT
BEGIN:VTIMEZONE
TZID:America/New_York
X-LIC-LOCATION:America/New_York
BEGIN:DAYLIGHT
DTSTART:20160313T030000
TZOFFSETFROM:-0500
TZOFFSETTO:-0400
TZNAME:EDT
END:DAYLIGHT
END:VTIMEZONE
END:VCALENDAR