BEGIN:VCALENDAR
VERSION:2.0
PRODID:-//wp-events-plugin.com//6.6.3//EN
TZID:America/New_York
X-WR-TIMEZONE:America/New_York
BEGIN:VEVENT
UID:14-564@atlantachinese.net
DTSTART;TZID=America/New_York:20160409T130000
DTEND;TZID=America/New_York:20160410T160000
DTSTAMP:20160406T173110Z
URL:https://www.atlantachinese.net/deals/groupbuys/summermat/
SUMMARY:新款冰丝凉席团购 ｜ 酷暑到、凉而不冰享凉席
DESCRIPTION:夏天就要到了，这美国南方的夏天也是湿热难熬
 的，晚上睡觉要是没有一床舒服的席子怎么休息的好，
 连看奥运会都没精神。
ATTACH;FMTTYPE=image/jpeg:https://www.atlantachinese.net/deals/files/2016/
 03/458994379-1.jpg
CATEGORIES:团购活动
LOCATION:杨茗参茶庄 Retail & Wholesale\, 2180  Pleasant Hill  Rd B12\,
  Duluth \, GA\, 30096\, United States
GEO:33.9612744;-84.1343685
X-APPLE-STRUCTURED-LOCATION;VALUE=URI;X-ADDRESS=2180  Pleasant Hill  Rd B12
 \, Duluth \, GA\, 30096\, United States;X-APPLE-RADIUS=100;X-TITLE=杨茗
 参茶庄 Retail & Wholesale:geo:33.9612744,-84.1343685
END:VEVENT
BEGIN:VTIMEZONE
TZID:America/New_York
X-LIC-LOCATION:America/New_York
BEGIN:DAYLIGHT
DTSTART:20160313T030000
TZOFFSETFROM:-0500
TZOFFSETTO:-0400
TZNAME:EDT
END:DAYLIGHT
END:VTIMEZONE
END:VCALENDAR