BEGIN:VCALENDAR
VERSION:2.0
PRODID:-//wp-events-plugin.com//6.6.3//EN
TZID:America/New_York
X-WR-TIMEZONE:America/New_York
BEGIN:VEVENT
UID:14-689@atlantachinese.net
DTSTART;TZID=America/New_York;VALUE=DATE:20160531
DTEND;TZID=America/New_York;VALUE=DATE:20160601
DTSTAMP:20160527T174235Z
URL:https://www.atlantachinese.net/deals/groupbuys/summertennis/
SUMMARY:暑期网球班开始报名啦
DESCRIPTION:网球在美国就跟高尔夫一样是一种社交运动了，
 不但是锻炼身体，也可以联络感情。而6-18岁练习网球是
 青少年最好的黄金年龄，练习网球可以促进儿童少年的
 骨胳发育，使心理、身体全面综合健康发展，同时可以
 培训孩子的良好兴趣爱好。
ATTACH;FMTTYPE=image/jpeg:https://www.atlantachinese.net/deals/files/2016/
 05/download-2.jpg
CATEGORIES:团购活动,体育活动
END:VEVENT
BEGIN:VTIMEZONE
TZID:America/New_York
X-LIC-LOCATION:America/New_York
BEGIN:DAYLIGHT
DTSTART:20160313T030000
TZOFFSETFROM:-0500
TZOFFSETTO:-0400
TZNAME:EDT
END:DAYLIGHT
END:VTIMEZONE
END:VCALENDAR